BEGIN:VCALENDAR
VERSION:2.0
PRODID:-//MakerPort Stralsund (2.0) - ECPv6.0.12//NONSGML v1.0//EN
CALSCALE:GREGORIAN
METHOD:PUBLISH
X-ORIGINAL-URL:https://test.makerport-hst.de
X-WR-CALDESC:Veranstaltungen für MakerPort Stralsund (2.0)
REFRESH-INTERVAL;VALUE=DURATION:PT1H
X-Robots-Tag:noindex
X-PUBLISHED-TTL:PT1H
BEGIN:VTIMEZONE
TZID:Europe/Berlin
BEGIN:DAYLIGHT
TZOFFSETFROM:+0100
TZOFFSETTO:+0200
TZNAME:CEST
DTSTART:20220327T010000
END:DAYLIGHT
BEGIN:STANDARD
TZOFFSETFROM:+0200
TZOFFSETTO:+0100
TZNAME:CET
DTSTART:20221030T010000
END:STANDARD
END:VTIMEZONE
BEGIN:VEVENT
DTSTART;TZID=Europe/Berlin:20221220T190000
DTEND;TZID=Europe/Berlin:20221220T203000
DTSTAMP:20260426T030126
CREATED:20230425T091700Z
LAST-MODIFIED:20230522T081548Z
UID:531-1671562800-1671568200@test.makerport-hst.de
SUMMARY:Werkstatt treffen
DESCRIPTION:Bei diesem Werkstatt Treffen geht es wieder um den Datenschutzcheck. Beim letzten Workshop wurden schon viele Fragen beantwortet\, jetzt kannst du auch deine eigene Website mitbringen und dir wird gezeigt\, wie du Expertenwissen selber umsetzen kannst.Aktuelle Infos zur DSGVO – worauf musst du achten und wie kannst du dich vor Abmahnungen schützen?\nWie kannst du die eigene Website besser analysieren und verstehen?\nWelche Techniken wie Tracking-Tools\, Cookies\, Social Plugins\, Kontaktformular\, Video etc. setzt du auf deiner Website ein? Was muss du dabei beachten?\nWas macht deine Website\, wenn du nicht hinschaust?\nKomm einfach vorbei und mach mit!
URL:https://test.makerport-hst.de/event/werkstatt-treffen-2/
LOCATION:MakerPort Stralsund\, Wasserstraße 68\, Stralsund\, 18439\, Deutschland
ATTACH;FMTTYPE=image/png:https://test.makerport-hst.de/wp-content/uploads/2023/04/Datenschutzcheck-Werkstatt-CuNOc6.tmp_.png
END:VEVENT
END:VCALENDAR