BEGIN:VCALENDAR
VERSION:2.0
PRODID:-//MakerPort Stralsund (2.0) - ECPv6.0.12//NONSGML v1.0//EN
CALSCALE:GREGORIAN
METHOD:PUBLISH
X-WR-CALNAME:MakerPort Stralsund (2.0)
X-ORIGINAL-URL:https://test.makerport-hst.de
X-WR-CALDESC:Veranstaltungen für MakerPort Stralsund (2.0)
REFRESH-INTERVAL;VALUE=DURATION:PT1H
X-Robots-Tag:noindex
X-PUBLISHED-TTL:PT1H
BEGIN:VTIMEZONE
TZID:Europe/Berlin
BEGIN:DAYLIGHT
TZOFFSETFROM:+0100
TZOFFSETTO:+0200
TZNAME:CEST
DTSTART:20220327T010000
END:DAYLIGHT
BEGIN:STANDARD
TZOFFSETFROM:+0200
TZOFFSETTO:+0100
TZNAME:CET
DTSTART:20221030T010000
END:STANDARD
END:VTIMEZONE
BEGIN:VEVENT
DTSTART;TZID=Europe/Berlin:20221221T153000
DTEND;TZID=Europe/Berlin:20221221T173000
DTSTAMP:20260426T043406
CREATED:20230425T091925Z
LAST-MODIFIED:20230522T081604Z
UID:543-1671636600-1671643800@test.makerport-hst.de
SUMMARY:Der Kurzfilmtag 2022 – Teil 1
DESCRIPTION:Dieses Jahr dürfen wir die Hallen des MakerPorts für den KURZFILMTAG 2022 öffnen. Zwischen VR-Brillen\, 3D-Druckern und einer smarten Pflanzenwand kannst du Kurzfilme in coolem Ambiente bei einem erfrischenden Kaltgetränk und warmen Popcorn genießen. Die Medienwerkstatt Identity Films e.V. sorgt für die Filme und hat dieses Jahr zwei Kurzfilmrollen im Gepäck. In der ersten Rolle erwartet dich:15:30-17:30 Uhr: Starke Mädchen. Starke Stimmen. Starke Frauen. (Altersempfehlung: ab 12 Jahren)\nWovon träumen wir\, welche Ansprüche stellen wir an das Leben\, das vor uns liegt? In den Filmen dieser Kurzfilmrolle handelt es vom Traum\, zum Mond zu reisen; vom Drang\, der Enge zu entfliehen und vom Wunsch\, die erste Liebe zu finden. Aber es geht auch um die großen Fragen: Wie fühlt es sich an\, in Scheidungsfamilien zu leben? Und wie ist es\, auf der Suche nach einem besseren Leben die geliebte Familie hinter sich zu lassen? Alle Filme haben starke Mädchen und Frauen als Protagonistinnen\, die ihre Fantasie aber auch ihre Kraft nutzen\, um ihren Träumen Raum zu lassen.\nKomm vorbei in den MakerPort Stralsund und zelebriere dieses cineastische Highlight am kürzesten Tag des Jahres mit uns! Tickets sind ab dem 01. Dezember 2022 im Vorverkauf bei der Goldschmiede C. Stabenow und an der Abendkasse erhältlich.\n—\nDer Kurzfilmtag | Seit 2016 organisiert die Medienwerkstatt Identity Films e.V. den Kurzfilmtag in der Hansestadt Stralsund. Geboren wurde der Kurzfilmtag 2011 in Frankreich als „Le jour le plus court“. Seit 2012 wird er in Deutschland von der AG Kurzfilm im Bundesverband Deutscher Kurzfilm koordiniert. Unterstützer sind unter anderem das Filmförderwerk und der europäische Fernsehsender arte.\n—\nIn Kooperation mit Pixel Werbung GbR\, Goldschmiede C. Stabenow\, und dem MakerPort Stralsund
URL:https://test.makerport-hst.de/event/der-kurzfilmtag-2022-teil-1/
ATTACH;FMTTYPE=image/jpeg:https://test.makerport-hst.de/wp-content/uploads/2023/04/socialMedia_starke-maedchen-yAKj57.tmp_.jpg
END:VEVENT
BEGIN:VEVENT
DTSTART;TZID=Europe/Berlin:20221221T193000
DTEND;TZID=Europe/Berlin:20221221T213000
DTSTAMP:20260426T043406
CREATED:20230425T091924Z
LAST-MODIFIED:20230522T081603Z
UID:541-1671651000-1671658200@test.makerport-hst.de
SUMMARY:Der Kurzfilmtag 2022 – Teil 2
DESCRIPTION:Dieses Jahr dürfen wir die Hallen des MakerPorts für den KURZFILMTAG 2022 öffnen. Zwischen VR-Brillen\, 3D-Druckern und einer smarten Pflanzenwand kannst du Kurzfilme in coolem Ambiente bei einem erfrischenden Kaltgetränk und warmen Popcorn genießen. Die Medienwerkstatt Identity Films e.V. sorgt für die Filme und hat dieses Jahr zwei Kurzfilmrollen im Gepäck. In der zweiten Rolle erwartet dich:19:30-21:30 Uhr: Golden Shorts 2022 (Altersempfehlung: ab 16 Jahren)\nIn Glühweinlaune mitten hinein in den Gesellschaftstrubel: Shorts Attack im Dezember sucht das Glück und die Selbsterfahrung\, es geht unter Schafe\, verortet Zweisamkeit und lässt sich mit dem Teufel ein. Die internationalen Highlights des diesjährigen INTERFILM Festivals wurden 2022 weltweit gefeiert. Voll das Leben\, viel Vergnügen!\nKomm vorbei in den MakerPort Stralsund und zelebriere dieses cineastische Highlight am kürzesten Tag des Jahres mit uns! Tickets sind ab dem 01. Dezember 2022 im Vorverkauf bei der Goldschmiede C. Stabenow und an der Abendkasse erhältlich.\n—\nDer Kurzfilmtag | Seit 2016 organisiert die Medienwerkstatt Identity Films e.V. den Kurzfilmtag in der Hansestadt Stralsund. Geboren wurde der Kurzfilmtag 2011 in Frankreich als „Le jour le plus court“. Seit 2012 wird er in Deutschland von der AG Kurzfilm im Bundesverband Deutscher Kurzfilm koordiniert. Unterstützer sind unter anderem das Filmförderwerk und der europäische Fernsehsender arte.\n—\nIn Kooperation mit Pixel Werbung GbR\, Goldschmiede C. Stabenow\, und dem MakerPort Stralsund
URL:https://test.makerport-hst.de/event/der-kurzfilmtag-2022-teil-2/
ATTACH;FMTTYPE=image/jpeg:https://test.makerport-hst.de/wp-content/uploads/2023/04/socialMedia_golden-shorts-94FYgu.tmp_.jpg
END:VEVENT
END:VCALENDAR